BEGIN:VCALENDAR
VERSION:2.0
PRODID:-//Children's Garden Montessori School - ECPv6.15.20//NONSGML v1.0//EN
CALSCALE:GREGORIAN
METHOD:PUBLISH
X-WR-CALNAME:Children's Garden Montessori School
X-ORIGINAL-URL:https://www.cgmontessori.com
X-WR-CALDESC:Events for Children's Garden Montessori School
REFRESH-INTERVAL;VALUE=DURATION:PT1H
X-Robots-Tag:noindex
X-PUBLISHED-TTL:PT1H
BEGIN:VTIMEZONE
TZID:America/Denver
BEGIN:DAYLIGHT
TZOFFSETFROM:-0700
TZOFFSETTO:-0600
TZNAME:MDT
DTSTART:20230312T090000
END:DAYLIGHT
BEGIN:STANDARD
TZOFFSETFROM:-0600
TZOFFSETTO:-0700
TZNAME:MST
DTSTART:20231105T080000
END:STANDARD
BEGIN:DAYLIGHT
TZOFFSETFROM:-0700
TZOFFSETTO:-0600
TZNAME:MDT
DTSTART:20240310T090000
END:DAYLIGHT
BEGIN:STANDARD
TZOFFSETFROM:-0600
TZOFFSETTO:-0700
TZNAME:MST
DTSTART:20241103T080000
END:STANDARD
BEGIN:DAYLIGHT
TZOFFSETFROM:-0700
TZOFFSETTO:-0600
TZNAME:MDT
DTSTART:20250309T090000
END:DAYLIGHT
BEGIN:STANDARD
TZOFFSETFROM:-0600
TZOFFSETTO:-0700
TZNAME:MST
DTSTART:20251102T080000
END:STANDARD
END:VTIMEZONE
BEGIN:VEVENT
DTSTART;VALUE=DATE:20241114
DTEND;VALUE=DATE:20241116
DTSTAMP:20260422T185241
CREATED:20240911T164200Z
LAST-MODIFIED:20240911T164200Z
UID:6812-1731542400-1731715199@www.cgmontessori.com
SUMMARY:No School - Parent/Teacher Conferences
DESCRIPTION:Reserve these dates for your conference at school with your child’s teacher.
URL:https://www.cgmontessori.com/event/no-school-parent-teacher-conferences-2/
CATEGORIES:Administrative,No School,Parent Event
END:VEVENT
END:VCALENDAR