BEGIN:VCALENDAR
VERSION:2.0
PRODID:-//Children's Garden Montessori School - ECPv6.15.20//NONSGML v1.0//EN
CALSCALE:GREGORIAN
METHOD:PUBLISH
X-ORIGINAL-URL:https://www.cgmontessori.com
X-WR-CALDESC:Events for Children's Garden Montessori School
REFRESH-INTERVAL;VALUE=DURATION:PT1H
X-Robots-Tag:noindex
X-PUBLISHED-TTL:PT1H
BEGIN:VTIMEZONE
TZID:America/Denver
BEGIN:DAYLIGHT
TZOFFSETFROM:-0700
TZOFFSETTO:-0600
TZNAME:MDT
DTSTART:20160313T090000
END:DAYLIGHT
BEGIN:STANDARD
TZOFFSETFROM:-0600
TZOFFSETTO:-0700
TZNAME:MST
DTSTART:20161106T080000
END:STANDARD
BEGIN:DAYLIGHT
TZOFFSETFROM:-0700
TZOFFSETTO:-0600
TZNAME:MDT
DTSTART:20170312T090000
END:DAYLIGHT
BEGIN:STANDARD
TZOFFSETFROM:-0600
TZOFFSETTO:-0700
TZNAME:MST
DTSTART:20171105T080000
END:STANDARD
BEGIN:DAYLIGHT
TZOFFSETFROM:-0700
TZOFFSETTO:-0600
TZNAME:MDT
DTSTART:20180311T090000
END:DAYLIGHT
BEGIN:STANDARD
TZOFFSETFROM:-0600
TZOFFSETTO:-0700
TZNAME:MST
DTSTART:20181104T080000
END:STANDARD
BEGIN:DAYLIGHT
TZOFFSETFROM:-0700
TZOFFSETTO:-0600
TZNAME:MDT
DTSTART:20190310T090000
END:DAYLIGHT
BEGIN:STANDARD
TZOFFSETFROM:-0600
TZOFFSETTO:-0700
TZNAME:MST
DTSTART:20191103T080000
END:STANDARD
BEGIN:DAYLIGHT
TZOFFSETFROM:-0700
TZOFFSETTO:-0600
TZNAME:MDT
DTSTART:20200308T090000
END:DAYLIGHT
BEGIN:STANDARD
TZOFFSETFROM:-0600
TZOFFSETTO:-0700
TZNAME:MST
DTSTART:20201101T080000
END:STANDARD
BEGIN:DAYLIGHT
TZOFFSETFROM:-0700
TZOFFSETTO:-0600
TZNAME:MDT
DTSTART:20210314T090000
END:DAYLIGHT
BEGIN:STANDARD
TZOFFSETFROM:-0600
TZOFFSETTO:-0700
TZNAME:MST
DTSTART:20211107T080000
END:STANDARD
END:VTIMEZONE
BEGIN:VEVENT
DTSTART;TZID=America/Denver:20200507T173000
DTEND;TZID=America/Denver:20200507T190000
DTSTAMP:20260420T080527
CREATED:20191010T172425Z
LAST-MODIFIED:20191010T172425Z
UID:4776-1588872600-1588878000@www.cgmontessori.com
SUMMARY:Arts Festival
DESCRIPTION:Family event celebrating the children’s art and work in the studio!
URL:https://www.cgmontessori.com/event/arts-festival/
CATEGORIES:Open House,School Event
END:VEVENT
BEGIN:VEVENT
DTSTART;TZID=America/Denver:20200210T163000
DTEND;TZID=America/Denver:20200210T173000
DTSTAMP:20260420T080527
CREATED:20200113T170108Z
LAST-MODIFIED:20200113T170108Z
UID:4857-1581352200-1581355800@www.cgmontessori.com
SUMMARY:Open House Presentation for Prospective Parents – register online
DESCRIPTION:Presentation and school viewing for parents considering Children’s Garden for their child. Join with staff and other parents to learn about the school\, programs and admissions process. Space is limited — register here. Parents only please; there are not activities or supervision available for children at this event.
URL:https://www.cgmontessori.com/event/open-house-presentation-for-prospective-parents-register-online-3/
CATEGORIES:Open House
END:VEVENT
BEGIN:VEVENT
DTSTART;TZID=America/Denver:20200208T100000
DTEND;TZID=America/Denver:20200208T110000
DTSTAMP:20260420T080527
CREATED:20190910T162901Z
LAST-MODIFIED:20200113T170432Z
UID:4664-1581156000-1581159600@www.cgmontessori.com
SUMMARY:Open House Presentation for Prospective Parents – register online
DESCRIPTION:Presentation and School viewing for parents considering Children’s Garden for their child. Join with staff and other parents to learn about the school\, programs and admissions process. Spaces limited – register here. Parents Only Please; there are not activities or supervision available for children at this event.
URL:https://www.cgmontessori.com/event/open-house-presentation-for-prospective-parents-register-online-2/
CATEGORIES:Open House
END:VEVENT
BEGIN:VEVENT
DTSTART;TZID=America/Denver:20200116T163000
DTEND;TZID=America/Denver:20200116T173000
DTSTAMP:20260420T080527
CREATED:20190910T162757Z
LAST-MODIFIED:20190910T162757Z
UID:4662-1579192200-1579195800@www.cgmontessori.com
SUMMARY:Open House Presentation for Prospective Parents – register online
DESCRIPTION:Presentation and School viewing for parents considering Children’s Garden for their child. Join with staff and other parents to learn about the school\, programs and admissions process. Spaces limited – register here. Parents Only Please
URL:https://www.cgmontessori.com/event/open-house-presentation-for-prospective-parents-register-online/
CATEGORIES:Open House
END:VEVENT
BEGIN:VEVENT
DTSTART;VALUE=DATE:20191122
DTEND;VALUE=DATE:20191123
DTSTAMP:20260420T080527
CREATED:20191008T170311Z
LAST-MODIFIED:20191115T194632Z
UID:4703-1574380800-1574467199@www.cgmontessori.com
SUMMARY:"Grands" Day -- Morning and Afternoon Primary classes\, drop in to visit with your student -- see details
DESCRIPTION:For Primary classes — Grandparents and other grand adults (aunts\, uncles\, nannies\, special friends) in the children’s lives are invited to spend some time at school. Primary classrooms and the Studio will be open for business as usual with the”Grands”. Visitors are welcome any time. However\, they will get the most out of their visit if they come during work time–between 9:15 AM and 10:45 AM during the morning or between 1:15 and 2:45 PM during the afternoon (XP session runs 12:45 to 2:15 PM). Remember to let the teachers know if your child’s special visitor is planning on taking them home with them when they leave! Toddler classes do not participate in this event.
URL:https://www.cgmontessori.com/event/grands-day-for-primary-classes-1015-am-115-xp-and-215-pm/
CATEGORIES:Open House,School Event
END:VEVENT
BEGIN:VEVENT
DTSTART;TZID=America/Denver:20191120T173000
DTEND;TZID=America/Denver:20191120T183000
DTSTAMP:20260420T080527
CREATED:20190910T162629Z
LAST-MODIFIED:20191008T202401Z
UID:4660-1574271000-1574274600@www.cgmontessori.com
SUMMARY:Open House Presentations for Prospective Parents – register online
DESCRIPTION:Presentation and School viewing for parents considering Children’s Garden for their child. Join with staff and other parents to learn about the school\, programs and admissions process. Spaces limited – register here. Parents Only Please
URL:https://www.cgmontessori.com/event/open-house-presentations-for-prospective-parents-register-online/
CATEGORIES:Open House
END:VEVENT
BEGIN:VEVENT
DTSTART;TZID=America/Denver:20191012T103000
DTEND;TZID=America/Denver:20191012T120000
DTSTAMP:20260420T080527
CREATED:20190805T052754Z
LAST-MODIFIED:20190910T162423Z
UID:4637-1570876200-1570881600@www.cgmontessori.com
SUMMARY:Open House Presentations for Prospective Parents – register online
DESCRIPTION:Presentation and School viewing for parents considering Children’s Garden for their child. Join with staff and other parents to learn about the school\, programs and admissions process. Spaces limited – register here. Parents Only Please
URL:https://www.cgmontessori.com/event/open-house-presentations-for-prospective-parents-registration-required-2/
CATEGORIES:Open House
END:VEVENT
BEGIN:VEVENT
DTSTART;TZID=America/Denver:20190209T100000
DTEND;TZID=America/Denver:20190209T113000
DTSTAMP:20260420T080527
CREATED:20181017T171002Z
LAST-MODIFIED:20181128T203014Z
UID:4230-1549706400-1549711800@www.cgmontessori.com
SUMMARY:Open House presentations for Prospective Parents 10-11 AM & 1-2 PM - Registration Required
DESCRIPTION:10:00 am & 1:00 pm- Presentations and School viewing for parents considering Children’s Garden for their child. Join with staff and other parents to learn about the school\, programs and admissions process. Parents Only Please
URL:https://www.cgmontessori.com/event/open-house/
CATEGORIES:Open House
END:VEVENT
BEGIN:VEVENT
DTSTART;TZID=America/Denver:20190124T163000
DTEND;TZID=America/Denver:20190124T173000
DTSTAMP:20260420T080527
CREATED:20181031T212859Z
LAST-MODIFIED:20181031T213154Z
UID:4276-1548347400-1548351000@www.cgmontessori.com
SUMMARY:Open House & Presentation for Prospective Parents- Registration Required
DESCRIPTION:Presentations and school viewing for parents considering Children’s Garden for their child. Join with staff and other parents to learn about the school\, programs and admissions process. Parents Only Please. Resevations required\, see the Admissions page to register.
URL:https://www.cgmontessori.com/event/open-house-parent-preview-presentation-registration-required/
CATEGORIES:Open House
END:VEVENT
BEGIN:VEVENT
DTSTART;VALUE=DATE:20181201
DTEND;VALUE=DATE:20181202
DTSTAMP:20260420T080527
CREATED:20180921T215338Z
LAST-MODIFIED:20181128T202935Z
UID:4195-1543622400-1543708799@www.cgmontessori.com
SUMMARY:Open House for Prospective Parents 10-11 AM & 12-1 PM- Registration Required
DESCRIPTION:10:00 am & 12:00 pm- Presentations and School viewing for parents considering Children’s Garden for their child. Join with staff and other parents to learn about the school\, programs and admissions process. Parents Only Please. Reservations are required. See “Admissions” page to register.
URL:https://www.cgmontessori.com/event/open-house-presentations-for-prospective-parents-registration-required/
CATEGORIES:Open House
END:VEVENT
BEGIN:VEVENT
DTSTART;TZID=America/Denver:20181114T173000
DTEND;TZID=America/Denver:20181114T183000
DTSTAMP:20260420T080527
CREATED:20181025T215503Z
LAST-MODIFIED:20181031T213324Z
UID:4248-1542216600-1542220200@www.cgmontessori.com
SUMMARY:Open House Presentation for Prospective Parents -Registration Required
DESCRIPTION:Presentations and School viewing for parents considering Children’s Garden for their child. Join with staff and other parents to learn about the school\, programs and admissions process. Parents Only Please. Resevations required\, see the Admissions page to register.
URL:https://www.cgmontessori.com/event/open-house-parent-preview-and-presentation-rsvp/
CATEGORIES:Open House
END:VEVENT
BEGIN:VEVENT
DTSTART;TZID=America/Denver:20181013T100000
DTEND;TZID=America/Denver:20181013T110000
DTSTAMP:20260420T080527
CREATED:20180910T170043Z
LAST-MODIFIED:20180910T172338Z
UID:4128-1539424800-1539428400@www.cgmontessori.com
SUMMARY:Open House Presentations for Prospective Parents - Registration Required
DESCRIPTION:10:00 am & 12:00 pm- Presentations and School viewing for parents considering Children’s Garden for their child. Join with staff and other parents to learn about the school\, programs and admissions process. Parents Only Please
URL:https://www.cgmontessori.com/event/open-house-presentation-for-prospective-parents-registration-required/
CATEGORIES:Open House
END:VEVENT
BEGIN:VEVENT
DTSTART;VALUE=DATE:20181013
DTEND;VALUE=DATE:20181014
DTSTAMP:20260420T080527
CREATED:20180921T215617Z
LAST-MODIFIED:20181025T220106Z
UID:4199-1539388800-1539475199@www.cgmontessori.com
SUMMARY:Open House Presentations for Prospective Parents – Registration Required
DESCRIPTION:10:00 am & 12:00 pm- Presentations and School viewing for parents considering Children’s Garden for their child. Join with staff and other parents to learn about the school\, programs and admissions process. Parents Only Please
URL:https://www.cgmontessori.com/event/1000-am-1200-pm-presentations-and-school-viewing-for-parents-considering-childrens-garden-for-their-child-join-with-staff-and-other-parents-to-learn-about-the-school-programs-and-admis/
CATEGORIES:Open House
END:VEVENT
BEGIN:VEVENT
DTSTART;TZID=America/Denver:20180510T173000
DTEND;TZID=America/Denver:20180510T190000
DTSTAMP:20260420T080527
CREATED:20180426T192212Z
LAST-MODIFIED:20180426T192212Z
UID:3927-1525973400-1525978800@www.cgmontessori.com
SUMMARY:Children's Art Show: Befriending the Unknown
DESCRIPTION:Celebrate the children’s explorations and expressions of “Befriending the Unknown”. \nBring family and friends!
URL:https://www.cgmontessori.com/event/childrens-art-show-befriending-the-unknown/
CATEGORIES:Open House,Parent Event,School Event
END:VEVENT
BEGIN:VEVENT
DTSTART;TZID=America/Denver:20180203T103000
DTEND;TZID=America/Denver:20180203T120000
DTSTAMP:20260420T080527
CREATED:20171107T192613Z
LAST-MODIFIED:20171107T192613Z
UID:3470-1517653800-1517659200@www.cgmontessori.com
SUMMARY:Open House presentation for prospective parents. RSVP
DESCRIPTION:An Informational presentation for prospective parents seeking a first educational home for their young children. Parents only\, no children for this event. RSVP is required: www.cgmontessori.com/admissions
URL:https://www.cgmontessori.com/event/open-house-presentation-for-prospective-parents-rsvp-3/
CATEGORIES:Open House
END:VEVENT
BEGIN:VEVENT
DTSTART;TZID=America/Denver:20180125T163000
DTEND;TZID=America/Denver:20180125T180000
DTSTAMP:20260420T080527
CREATED:20171107T192457Z
LAST-MODIFIED:20171107T192457Z
UID:3468-1516897800-1516903200@www.cgmontessori.com
SUMMARY:Open House presentation for prospective parents. RSVP
DESCRIPTION:An Informational presentation for prospective parents seeking a first educational home for their young children. Parents only\, no children for this event. RSVP is required: www.cgmontessori.com/admissions
URL:https://www.cgmontessori.com/event/open-house-presentation-for-prospective-parents-rsvp-2/
CATEGORIES:Open House
END:VEVENT
BEGIN:VEVENT
DTSTART;TZID=America/Denver:20171205T163000
DTEND;TZID=America/Denver:20171205T180000
DTSTAMP:20260420T080527
CREATED:20171107T192246Z
LAST-MODIFIED:20171107T192246Z
UID:3460-1512491400-1512496800@www.cgmontessori.com
SUMMARY:Open House presentation for prospective parents. RSVP
DESCRIPTION:An Informational presentation for prospective parents seeking a first educational home for their young children. Parents only\, no children for this event. RSVP is required: www.cgmontessor.com/admissions
URL:https://www.cgmontessori.com/event/open-house-presentation-for-prospective-parents-rsvp/
CATEGORIES:Open House
END:VEVENT
END:VCALENDAR