BEGIN:VCALENDAR
VERSION:2.0
PRODID:-//Children's Garden Montessori School - ECPv6.15.20//NONSGML v1.0//EN
CALSCALE:GREGORIAN
METHOD:PUBLISH
X-ORIGINAL-URL:https://www.cgmontessori.com
X-WR-CALDESC:Events for Children's Garden Montessori School
REFRESH-INTERVAL;VALUE=DURATION:PT1H
X-Robots-Tag:noindex
X-PUBLISHED-TTL:PT1H
BEGIN:VTIMEZONE
TZID:America/Denver
BEGIN:DAYLIGHT
TZOFFSETFROM:-0700
TZOFFSETTO:-0600
TZNAME:MDT
DTSTART:20160313T090000
END:DAYLIGHT
BEGIN:STANDARD
TZOFFSETFROM:-0600
TZOFFSETTO:-0700
TZNAME:MST
DTSTART:20161106T080000
END:STANDARD
BEGIN:DAYLIGHT
TZOFFSETFROM:-0700
TZOFFSETTO:-0600
TZNAME:MDT
DTSTART:20170312T090000
END:DAYLIGHT
BEGIN:STANDARD
TZOFFSETFROM:-0600
TZOFFSETTO:-0700
TZNAME:MST
DTSTART:20171105T080000
END:STANDARD
BEGIN:DAYLIGHT
TZOFFSETFROM:-0700
TZOFFSETTO:-0600
TZNAME:MDT
DTSTART:20180311T090000
END:DAYLIGHT
BEGIN:STANDARD
TZOFFSETFROM:-0600
TZOFFSETTO:-0700
TZNAME:MST
DTSTART:20181104T080000
END:STANDARD
BEGIN:DAYLIGHT
TZOFFSETFROM:-0700
TZOFFSETTO:-0600
TZNAME:MDT
DTSTART:20190310T090000
END:DAYLIGHT
BEGIN:STANDARD
TZOFFSETFROM:-0600
TZOFFSETTO:-0700
TZNAME:MST
DTSTART:20191103T080000
END:STANDARD
END:VTIMEZONE
BEGIN:VEVENT
DTSTART;TZID=America/Denver:20181114T173000
DTEND;TZID=America/Denver:20181114T183000
DTSTAMP:20260420T092252
CREATED:20181025T215503Z
LAST-MODIFIED:20181031T213324Z
UID:4248-1542216600-1542220200@www.cgmontessori.com
SUMMARY:Open House Presentation for Prospective Parents -Registration Required
DESCRIPTION:Presentations and School viewing for parents considering Children’s Garden for their child. Join with staff and other parents to learn about the school\, programs and admissions process. Parents Only Please. Resevations required\, see the Admissions page to register.
URL:https://www.cgmontessori.com/event/open-house-parent-preview-and-presentation-rsvp/
CATEGORIES:Open House
END:VEVENT
BEGIN:VEVENT
DTSTART;TZID=America/Denver:20181013T100000
DTEND;TZID=America/Denver:20181013T110000
DTSTAMP:20260420T092252
CREATED:20180910T170043Z
LAST-MODIFIED:20180910T172338Z
UID:4128-1539424800-1539428400@www.cgmontessori.com
SUMMARY:Open House Presentations for Prospective Parents - Registration Required
DESCRIPTION:10:00 am & 12:00 pm- Presentations and School viewing for parents considering Children’s Garden for their child. Join with staff and other parents to learn about the school\, programs and admissions process. Parents Only Please
URL:https://www.cgmontessori.com/event/open-house-presentation-for-prospective-parents-registration-required/
CATEGORIES:Open House
END:VEVENT
BEGIN:VEVENT
DTSTART;VALUE=DATE:20181013
DTEND;VALUE=DATE:20181014
DTSTAMP:20260420T092252
CREATED:20180921T215617Z
LAST-MODIFIED:20181025T220106Z
UID:4199-1539388800-1539475199@www.cgmontessori.com
SUMMARY:Open House Presentations for Prospective Parents – Registration Required
DESCRIPTION:10:00 am & 12:00 pm- Presentations and School viewing for parents considering Children’s Garden for their child. Join with staff and other parents to learn about the school\, programs and admissions process. Parents Only Please
URL:https://www.cgmontessori.com/event/1000-am-1200-pm-presentations-and-school-viewing-for-parents-considering-childrens-garden-for-their-child-join-with-staff-and-other-parents-to-learn-about-the-school-programs-and-admis/
CATEGORIES:Open House
END:VEVENT
BEGIN:VEVENT
DTSTART;TZID=America/Denver:20180510T173000
DTEND;TZID=America/Denver:20180510T190000
DTSTAMP:20260420T092252
CREATED:20180426T192212Z
LAST-MODIFIED:20180426T192212Z
UID:3927-1525973400-1525978800@www.cgmontessori.com
SUMMARY:Children's Art Show: Befriending the Unknown
DESCRIPTION:Celebrate the children’s explorations and expressions of “Befriending the Unknown”. \nBring family and friends!
URL:https://www.cgmontessori.com/event/childrens-art-show-befriending-the-unknown/
CATEGORIES:Open House,Parent Event,School Event
END:VEVENT
BEGIN:VEVENT
DTSTART;TZID=America/Denver:20180203T103000
DTEND;TZID=America/Denver:20180203T120000
DTSTAMP:20260420T092252
CREATED:20171107T192613Z
LAST-MODIFIED:20171107T192613Z
UID:3470-1517653800-1517659200@www.cgmontessori.com
SUMMARY:Open House presentation for prospective parents. RSVP
DESCRIPTION:An Informational presentation for prospective parents seeking a first educational home for their young children. Parents only\, no children for this event. RSVP is required: www.cgmontessori.com/admissions
URL:https://www.cgmontessori.com/event/open-house-presentation-for-prospective-parents-rsvp-3/
CATEGORIES:Open House
END:VEVENT
BEGIN:VEVENT
DTSTART;TZID=America/Denver:20180125T163000
DTEND;TZID=America/Denver:20180125T180000
DTSTAMP:20260420T092252
CREATED:20171107T192457Z
LAST-MODIFIED:20171107T192457Z
UID:3468-1516897800-1516903200@www.cgmontessori.com
SUMMARY:Open House presentation for prospective parents. RSVP
DESCRIPTION:An Informational presentation for prospective parents seeking a first educational home for their young children. Parents only\, no children for this event. RSVP is required: www.cgmontessori.com/admissions
URL:https://www.cgmontessori.com/event/open-house-presentation-for-prospective-parents-rsvp-2/
CATEGORIES:Open House
END:VEVENT
BEGIN:VEVENT
DTSTART;TZID=America/Denver:20171205T163000
DTEND;TZID=America/Denver:20171205T180000
DTSTAMP:20260420T092252
CREATED:20171107T192246Z
LAST-MODIFIED:20171107T192246Z
UID:3460-1512491400-1512496800@www.cgmontessori.com
SUMMARY:Open House presentation for prospective parents. RSVP
DESCRIPTION:An Informational presentation for prospective parents seeking a first educational home for their young children. Parents only\, no children for this event. RSVP is required: www.cgmontessor.com/admissions
URL:https://www.cgmontessori.com/event/open-house-presentation-for-prospective-parents-rsvp/
CATEGORIES:Open House
END:VEVENT
END:VCALENDAR