BEGIN:VCALENDAR
VERSION:2.0
PRODID:-//Children's Garden Montessori School - ECPv6.15.20//NONSGML v1.0//EN
CALSCALE:GREGORIAN
METHOD:PUBLISH
X-WR-CALNAME:Children's Garden Montessori School
X-ORIGINAL-URL:https://www.cgmontessori.com
X-WR-CALDESC:Events for Children's Garden Montessori School
REFRESH-INTERVAL;VALUE=DURATION:PT1H
X-Robots-Tag:noindex
X-PUBLISHED-TTL:PT1H
BEGIN:VTIMEZONE
TZID:America/Denver
BEGIN:DAYLIGHT
TZOFFSETFROM:-0700
TZOFFSETTO:-0600
TZNAME:MDT
DTSTART:20210314T090000
END:DAYLIGHT
BEGIN:STANDARD
TZOFFSETFROM:-0600
TZOFFSETTO:-0700
TZNAME:MST
DTSTART:20211107T080000
END:STANDARD
BEGIN:DAYLIGHT
TZOFFSETFROM:-0700
TZOFFSETTO:-0600
TZNAME:MDT
DTSTART:20220313T090000
END:DAYLIGHT
BEGIN:STANDARD
TZOFFSETFROM:-0600
TZOFFSETTO:-0700
TZNAME:MST
DTSTART:20221106T080000
END:STANDARD
BEGIN:DAYLIGHT
TZOFFSETFROM:-0700
TZOFFSETTO:-0600
TZNAME:MDT
DTSTART:20230312T090000
END:DAYLIGHT
BEGIN:STANDARD
TZOFFSETFROM:-0600
TZOFFSETTO:-0700
TZNAME:MST
DTSTART:20231105T080000
END:STANDARD
END:VTIMEZONE
BEGIN:VEVENT
DTSTART;TZID=America/Denver:20221109T100000
DTEND;TZID=America/Denver:20221109T110000
DTSTAMP:20260424T202646
CREATED:20220831T162340Z
LAST-MODIFIED:20220831T162550Z
UID:6078-1667988000-1667991600@www.cgmontessori.com
SUMMARY:Virtual Parent Preview presentation – 10:00 am
DESCRIPTION:Virtual school tour and presentation of the school\, program and admissions. For parents considering Children’s Garden for their child in the future. Registration is required.
URL:https://www.cgmontessori.com/event/virtual-parent-preview-presentation-1000-am-3/
CATEGORIES:School Preview
END:VEVENT
END:VCALENDAR