BEGIN:VCALENDAR
VERSION:2.0
PRODID:-//Children's Garden Montessori School - ECPv6.15.20//NONSGML v1.0//EN
CALSCALE:GREGORIAN
METHOD:PUBLISH
X-WR-CALNAME:Children's Garden Montessori School
X-ORIGINAL-URL:https://www.cgmontessori.com
X-WR-CALDESC:Events for Children's Garden Montessori School
REFRESH-INTERVAL;VALUE=DURATION:PT1H
X-Robots-Tag:noindex
X-PUBLISHED-TTL:PT1H
BEGIN:VTIMEZONE
TZID:America/Denver
BEGIN:DAYLIGHT
TZOFFSETFROM:-0700
TZOFFSETTO:-0600
TZNAME:MDT
DTSTART:20230312T090000
END:DAYLIGHT
BEGIN:STANDARD
TZOFFSETFROM:-0600
TZOFFSETTO:-0700
TZNAME:MST
DTSTART:20231105T080000
END:STANDARD
BEGIN:DAYLIGHT
TZOFFSETFROM:-0700
TZOFFSETTO:-0600
TZNAME:MDT
DTSTART:20240310T090000
END:DAYLIGHT
BEGIN:STANDARD
TZOFFSETFROM:-0600
TZOFFSETTO:-0700
TZNAME:MST
DTSTART:20241103T080000
END:STANDARD
BEGIN:DAYLIGHT
TZOFFSETFROM:-0700
TZOFFSETTO:-0600
TZNAME:MDT
DTSTART:20250309T090000
END:DAYLIGHT
BEGIN:STANDARD
TZOFFSETFROM:-0600
TZOFFSETTO:-0700
TZNAME:MST
DTSTART:20251102T080000
END:STANDARD
BEGIN:DAYLIGHT
TZOFFSETFROM:-0700
TZOFFSETTO:-0600
TZNAME:MDT
DTSTART:20260308T090000
END:DAYLIGHT
BEGIN:STANDARD
TZOFFSETFROM:-0600
TZOFFSETTO:-0700
TZNAME:MST
DTSTART:20261101T080000
END:STANDARD
BEGIN:DAYLIGHT
TZOFFSETFROM:-0700
TZOFFSETTO:-0600
TZNAME:MDT
DTSTART:20270314T090000
END:DAYLIGHT
BEGIN:STANDARD
TZOFFSETFROM:-0600
TZOFFSETTO:-0700
TZNAME:MST
DTSTART:20271107T080000
END:STANDARD
END:VTIMEZONE
BEGIN:VEVENT
DTSTART;TZID=America/Denver:20241210T100000
DTEND;TZID=America/Denver:20241210T110000
DTSTAMP:20260425T063959
CREATED:20240911T164906Z
LAST-MODIFIED:20240911T171348Z
UID:6818-1733824800-1733828400@www.cgmontessori.com
SUMMARY:Virtual Parent Preview Presentation - Reservation Required
DESCRIPTION:Virtual school tour and presentation of the school\, program and admissions. For parents considering Children’s Garden for their child in the future. Registration is required.
URL:https://www.cgmontessori.com/event/virtual-parent-preview-presentation-reservation-required/
CATEGORIES:School Preview
END:VEVENT
BEGIN:VEVENT
DTSTART;TZID=America/Denver:20250211T100000
DTEND;TZID=America/Denver:20250211T110000
DTSTAMP:20260425T063959
CREATED:20240911T192602Z
LAST-MODIFIED:20240911T192739Z
UID:6858-1739268000-1739271600@www.cgmontessori.com
SUMMARY:Virtual Parent Preview - Registration Required
DESCRIPTION:Virtual school tour and presentation of the school\, program and admissions. For parents considering Children’s Garden for their child in the future. Registration is required.
URL:https://www.cgmontessori.com/event/virtual-parent-preview-registration-required/
CATEGORIES:School Preview
END:VEVENT
BEGIN:VEVENT
DTSTART;TZID=America/Denver:20251015T170000
DTEND;TZID=America/Denver:20251015T180000
DTSTAMP:20260425T063959
CREATED:20250904T153556Z
LAST-MODIFIED:20250904T153818Z
UID:7142-1760547600-1760551200@www.cgmontessori.com
SUMMARY:Parent Preview -School Tour and presentation
DESCRIPTION:For parents considering CGMS. Visit with teachers\, staff and other parents. Attend a presentation about our program and admissions. Tour the classrooms. Please do not bring your children to this event (infants in laps OK to bring with you).  Reservations required.
URL:https://www.cgmontessori.com/event/parent-preview-open-house/
CATEGORIES:School Preview
END:VEVENT
BEGIN:VEVENT
DTSTART;TZID=America/Denver:20251113T160000
DTEND;TZID=America/Denver:20251113T170000
DTSTAMP:20260425T063959
CREATED:20250905T164220Z
LAST-MODIFIED:20250905T164220Z
UID:7166-1763049600-1763053200@www.cgmontessori.com
SUMMARY:Parent Preview - School tour and presentation
DESCRIPTION:For parents considering CGMS. Visit with teachers\, staff and other parents. Attend a presentation about our program and admissions. Tour the classrooms. Please do not bring your children to this event (infants in laps OK to bring with you).  Reservations required.
URL:https://www.cgmontessori.com/event/parent-preview-school-tour-and-presentation/
CATEGORIES:Open House,School Preview
END:VEVENT
BEGIN:VEVENT
DTSTART;TZID=America/Denver:20251209T100000
DTEND;TZID=America/Denver:20251209T110000
DTSTAMP:20260425T063959
CREATED:20250909T200022Z
LAST-MODIFIED:20250909T200022Z
UID:7177-1765274400-1765278000@www.cgmontessori.com
SUMMARY:Virtual Parent Preview Presentation – Reservation Required
DESCRIPTION:Virtual Parent Preview Presentation – Reservation Required\n\n\nVirtual school tour and presentation of the school\, program and admissions. For parents considering Children’s Garden for their child in the future. Registration is required.
URL:https://www.cgmontessori.com/event/virtual-parent-preview-presentation-reservation-required-2/
CATEGORIES:School Preview
END:VEVENT
BEGIN:VEVENT
DTSTART;TZID=America/Denver:20260112T163000
DTEND;TZID=America/Denver:20260112T173000
DTSTAMP:20260425T063959
CREATED:20250909T201538Z
LAST-MODIFIED:20250909T201538Z
UID:7187-1768235400-1768239000@www.cgmontessori.com
SUMMARY:Parent Preview - School tour and presentation
DESCRIPTION:For parents considering CGMS. Visit with teachers\, staff and other parents. Attend an on-site presentation about our program and admissions\, and tour the classrooms. Please do not bring your children to this event (infants in laps OK to bring with you).  Reservations required.
URL:https://www.cgmontessori.com/event/parent-preview-school-tour-and-presentation-2/
CATEGORIES:School Preview
END:VEVENT
BEGIN:VEVENT
DTSTART;TZID=America/Denver:20260210T100000
DTEND;TZID=America/Denver:20260210T110000
DTSTAMP:20260425T063959
CREATED:20250905T165246Z
LAST-MODIFIED:20250905T165246Z
UID:7172-1770717600-1770721200@www.cgmontessori.com
SUMMARY:Parent Preview - Virtual tour and presentation
DESCRIPTION:Virtual school tour and presentation of the school\, program and admissions. For parents considering Children’s Garden for their child in the future. Registration is required.
URL:https://www.cgmontessori.com/event/parent-preview-virtual-tour-and-presentation/
CATEGORIES:School Preview
END:VEVENT
END:VCALENDAR